BEGIN:VCALENDAR
VERSION:2.0
PRODID:-//Plone.org//NONSGML plone.app.event//EN
X-WR-TIMEZONE:Europe/Berlin
BEGIN:VEVENT
SUMMARY:2. Arbeitseinsatz Herbst 2026
DTSTART;TZID=Europe/Berlin;VALUE=DATE-TIME:20261024T100000
DTSTAMP;VALUE=DATE-TIME:20260422T185742Z
UID:444dcdb03b4d4103b4fee5d82af60eed@localhost:31140
CREATED;VALUE=DATE-TIME:20171010T203503Z
LAST-MODIFIED;VALUE=DATE-TIME:20251219T144145Z
LOCATION:Vereinsgelände am Dutenhofener See
URL:https://www.scg84.de/andere-veranstaltungen/agenda-fur-arbeitseinsatze
 /2-arbeitseinsatz-herbst-2022
END:VEVENT
BEGIN:VTIMEZONE
TZID:Europe/Berlin
X-LIC-LOCATION:Europe/Berlin
BEGIN:DAYLIGHT
DTSTART;VALUE=DATE-TIME:20260329T030000
TZNAME:CEST
TZOFFSETFROM:+0100
TZOFFSETTO:+0200
END:DAYLIGHT
END:VTIMEZONE
END:VCALENDAR
