BEGIN:VCALENDAR
VERSION:2.0
PRODID:-//Plone.org//NONSGML plone.app.event//EN
X-WR-TIMEZONE:Europe/Berlin
BEGIN:VEVENT
SUMMARY:1. Arbeitseinsatz Herbst 2026
DTSTART;TZID=Europe/Berlin;VALUE=DATE-TIME:20261017T100000
DTSTAMP;VALUE=DATE-TIME:20260424T213612Z
UID:75de7de5ba324bdeae46393eacda5ca1@localhost:31140
CREATED;VALUE=DATE-TIME:20171010T203503Z
DESCRIPTION:Es gibt bestimmt wieder genug zu tun
LAST-MODIFIED;VALUE=DATE-TIME:20251219T144109Z
LOCATION:Vereinsgelände am Dutenhofener See
URL:https://www.scg84.de/andere-veranstaltungen/agenda-fur-arbeitseinsatze
 /1-arbeitseinsatz-herbst-2022
END:VEVENT
BEGIN:VTIMEZONE
TZID:Europe/Berlin
X-LIC-LOCATION:Europe/Berlin
BEGIN:DAYLIGHT
DTSTART;VALUE=DATE-TIME:20260329T030000
TZNAME:CEST
TZOFFSETFROM:+0100
TZOFFSETTO:+0200
END:DAYLIGHT
END:VTIMEZONE
END:VCALENDAR
